BEGIN:VCALENDAR
VERSION:2.0
PRODID:spatie/icalendar-generator
DESCRIPTION:Events from North Augusta Belvedere Radio Club
X-WR-CALDESC:Events from North Augusta Belvedere Radio Club
REFRESH-INTERVAL;VALUE=DURATION:PT1440M
X-PUBLISHED-TTL:PT1440M
BEGIN:VTIMEZONE
TZID:America/New_York
BEGIN:STANDARD
DTSTART:20211107T020000Z
TZOFFSETFROM:-0400
TZOFFSETTO:-0500
END:STANDARD
BEGIN:DAYLIGHT
DTSTART:20220313T020000Z
TZOFFSETFROM:-0500
TZOFFSETTO:-0400
END:DAYLIGHT
BEGIN:STANDARD
DTSTART:20221106T020000Z
TZOFFSETFROM:-0400
TZOFFSETTO:-0500
END:STANDARD
END:VTIMEZONE
BEGIN:VTIMEZONE
TZID:UTC
BEGIN:STANDARD
DTSTART:20250728T160057Z
TZOFFSETFROM:+0000
TZOFFSETTO:+0000
END:STANDARD
END:VTIMEZONE
BEGIN:VEVENT
UID:3-3
DTSTAMP:20260424T160057Z
SUMMARY:Aiken County ARES Trailer Meeting
LOCATION:Aiken Emergency Services 621 York St.  Aiken SC 29801
ORGANIZER;CN=clubk4nabnabrc:MAILTO:club.nabrc@gmail.com
DTSTART;TZID=America/New_York:20220706T180000
DTEND;TZID=America/New_York:20220706T190000
X-ALT-DESC;FMTTYPE=TEXT/HTML:The primary purpose of the monthly Aiken Count
 y ARES trailer meeting is to train ARES members on the proper startup\, op
 eration and shutdown of the trailer systems. It also ensures that all syst
 ems are operational and identifies any need maintenance. All Aiken ARES me
 mbers are encouraged to attend. Hams interested in joining ARES are also&amp;h
 ellip\;
CATEGORIES:ARES
URL;VALUE=URI:https://k4nab.org/mc-events/aiken-county-ares-trailer-meeting
 /
METHOD:PUBLISH
END:VEVENT
END:VCALENDAR