BEGIN:VCALENDAR
VERSION:2.0
PRODID:spatie/icalendar-generator
DESCRIPTION:Events from North Augusta Belvedere Radio Club
X-WR-CALDESC:Events from North Augusta Belvedere Radio Club
REFRESH-INTERVAL;VALUE=DURATION:PT1440M
X-PUBLISHED-TTL:PT1440M
BEGIN:VTIMEZONE
TZID:America/New_York
BEGIN:STANDARD
DTSTART:20251102T020000Z
TZOFFSETFROM:-0400
TZOFFSETTO:-0500
END:STANDARD
BEGIN:DAYLIGHT
DTSTART:20260308T020000Z
TZOFFSETFROM:-0500
TZOFFSETTO:-0400
END:DAYLIGHT
END:VTIMEZONE
BEGIN:VTIMEZONE
TZID:UTC
BEGIN:STANDARD
DTSTART:20250728T141721Z
TZOFFSETFROM:+0000
TZOFFSETTO:+0000
END:STANDARD
END:VTIMEZONE
BEGIN:VEVENT
UID:507-31
DTSTAMP:20260424T141721Z
SUMMARY:Weekly Aiken ARES Net
LOCATION:
ORGANIZER;CN=clubk4nabnabrc:MAILTO:club.nabrc@gmail.com
RRULE:FREQ=WEEKLY;UNTIL=20271230T000000Z
DTSTART;TZID=America/New_York:20260402T190000
DTEND;TZID=America/New_York:20260402T200000
X-ALT-DESC;FMTTYPE=TEXT/HTML:Uses the N2ZZ repeater located at Aiken Region
 al Hospital.  Frequency 145.350  Negative 600KHz offset  PL tone  156.
 7 Hz You do not need to be an ARES member to join the net.
CATEGORIES:ARES
URL;VALUE=URI:https://k4nab.org/mc-events/weekly-aiken-ares-net/?mc_id=507
METHOD:PUBLISH
END:VEVENT
END:VCALENDAR