BEGIN:VCALENDAR
VERSION:2.0
PRODID:spatie/icalendar-generator
DESCRIPTION:Events from North Augusta Belvedere Radio Club
X-WR-CALDESC:Events from North Augusta Belvedere Radio Club
REFRESH-INTERVAL;VALUE=DURATION:PT1440M
X-PUBLISHED-TTL:PT1440M
BEGIN:VTIMEZONE
TZID:America/New_York
BEGIN:STANDARD
DTSTART:20251102T020000Z
TZOFFSETFROM:-0400
TZOFFSETTO:-0500
END:STANDARD
BEGIN:DAYLIGHT
DTSTART:20260308T020000Z
TZOFFSETFROM:-0500
TZOFFSETTO:-0400
END:DAYLIGHT
BEGIN:STANDARD
DTSTART:20261101T020000Z
TZOFFSETFROM:-0400
TZOFFSETTO:-0500
END:STANDARD
END:VTIMEZONE
BEGIN:VTIMEZONE
TZID:UTC
BEGIN:STANDARD
DTSTART:20250728T150315Z
TZOFFSETFROM:+0000
TZOFFSETTO:+0000
END:STANDARD
END:VTIMEZONE
BEGIN:VEVENT
UID:170-7
DTSTAMP:20260424T150315Z
SUMMARY:Amateur Radio Club of Augusta
LOCATION:ARCA 1305 Interstate Parkway  Augusta
ORGANIZER;CN=clubk4nabnabrc:MAILTO:club.nabrc@gmail.com
DTSTART;TZID=America/New_York:20260519T190000
DTEND;TZID=America/New_York:20260519T210000
X-ALT-DESC;FMTTYPE=TEXT/HTML:Monthly meetings of the ARC of Augusta
CATEGORIES:Other Clubs
URL;VALUE=URI:https://k4nab.org/mc-events/amateur-radio-club-of-augusta/
METHOD:PUBLISH
END:VEVENT
END:VCALENDAR