BEGIN:VCALENDAR
VERSION:2.0
PRODID:spatie/icalendar-generator
DESCRIPTION:Events from North Augusta Belvedere Radio Club
X-WR-CALDESC:Events from North Augusta Belvedere Radio Club
REFRESH-INTERVAL;VALUE=DURATION:PT1440M
X-PUBLISHED-TTL:PT1440M
BEGIN:VTIMEZONE
TZID:America/New_York
BEGIN:STANDARD
DTSTART:20251102T020000Z
TZOFFSETFROM:-0400
TZOFFSETTO:-0500
END:STANDARD
BEGIN:DAYLIGHT
DTSTART:20260308T020000Z
TZOFFSETFROM:-0500
TZOFFSETTO:-0400
END:DAYLIGHT
BEGIN:STANDARD
DTSTART:20261101T020000Z
TZOFFSETFROM:-0400
TZOFFSETTO:-0500
END:STANDARD
END:VTIMEZONE
BEGIN:VTIMEZONE
TZID:UTC
BEGIN:STANDARD
DTSTART:20250728T140526Z
TZOFFSETFROM:+0000
TZOFFSETTO:+0000
END:STANDARD
END:VTIMEZONE
BEGIN:VEVENT
UID:266-8
DTSTAMP:20260424T140526Z
SUMMARY:Amateur Radio Club of Columbia County
LOCATION:ARCCC 650 Ronald Reagan Dr.  Evans GA 30809
ORGANIZER;CN=clubk4nabnabrc:MAILTO:club.nabrc@gmail.com
DTSTART;TZID=America/New_York:20260505T183000
DTEND;TZID=America/New_York:20260505T210000
X-ALT-DESC;FMTTYPE=TEXT/HTML:Monthly meetings of the ARCCC
CATEGORIES:Other Clubs
URL;VALUE=URI:https://k4nab.org/mc-events/amateur-radio-club-of-columbia-co
 unty/
METHOD:PUBLISH
END:VEVENT
END:VCALENDAR