BEGIN:VCALENDAR
VERSION:2.0
PRODID:spatie/icalendar-generator
DESCRIPTION:Events from North Augusta Belvedere Radio Club
X-WR-CALDESC:Events from North Augusta Belvedere Radio Club
REFRESH-INTERVAL;VALUE=DURATION:PT1440M
X-PUBLISHED-TTL:PT1440M
BEGIN:VTIMEZONE
TZID:America/New_York
BEGIN:STANDARD
DTSTART:20251102T020000Z
TZOFFSETFROM:-0400
TZOFFSETTO:-0500
END:STANDARD
BEGIN:DAYLIGHT
DTSTART:20260308T020000Z
TZOFFSETFROM:-0500
TZOFFSETTO:-0400
END:DAYLIGHT
END:VTIMEZONE
BEGIN:VTIMEZONE
TZID:UTC
BEGIN:STANDARD
DTSTART:20250728T140751Z
TZOFFSETFROM:+0000
TZOFFSETTO:+0000
END:STANDARD
END:VTIMEZONE
BEGIN:VEVENT
UID:621-36
DTSTAMP:20260424T140751Z
SUMMARY:Statewide “hurricane off-season” ARES Net
LOCATION:
ORGANIZER;CN=clubk4nabnabrc:MAILTO:club.nabrc@gmail.com
DTSTART;TZID=America/New_York:20260412T200000
DTEND;TZID=America/New_York:20260412T210000
X-ALT-DESC;FMTTYPE=TEXT/HTML:Statewide “hurricane off-season” Sunday ev
 ening statewide VHF nets When the net is conducted it is as follows: 8:00p
 m check in via any SCHEART linked repeater. For a complete list of the SC
 HEART VHF/UHF repeaters that you can use to check in please click here. 
  All of these repeaters are linked together for this net\, so find one&amp;he
 llip\;
CATEGORIES:ARES
URL;VALUE=URI:https://k4nab.org/mc-events/statewide-hurricane-off-season-ar
 es-net-5/
METHOD:PUBLISH
END:VEVENT
END:VCALENDAR